
BEGIN:VCALENDAR
PRODID:KCSoul.com generated
VERSION:1.0
BEGIN:VEVENT
DTSTART:20190425T000000Z
DTEND:20190425T010000Z
LOCATION:707 W 47th Street Kansas City, MO 
DESCRIPTION:<p>A Conversation with Ta-Nehisi Coates<br />
Wednesday, April 24 | 7-8 pm<br />
This event is at Unity Temple, 707 W 47th Street</p>

<p>Ta Nehishi CoatesJoin Ta-Nehisi Coates, New York Times Bestselling and National Book Award-Winning Author of Between the World and Me, for a conversation about race, community and the future of America as he discusses his book, We Were Eight Years in Power: An American Tragedy.</p>

<p>Ta-Nehisi Coates is a journalist, blogger, and memoirist who brings personal reflection and historical scholarship to bear on America&rsquo;s most contested issues. He is the author of the bestselling book The Beautiful Struggle and is the current author of the Marvel comics The Black Panther and Captain America.</p>

<p>Presented in partnership with Johnson County Library, Freedom&rsquo;s Frontier National Heritage Area, Metropolitan Community College &ndash; Penn Valley, The Nelson Atkins Museum of Art and the Office of the Mayor, Kansas City, MO. This event is presented with Rainy Day Books.<br />
This event will be held at Unity Temple on the Plaza, 707 W. 47th St., Kansas City, MO 64112.</p>

<p>ADMISSION PACKAGE (1 Person):&nbsp; $18.00 plus Kansas Sales Tax includes 1 Softcover of We Were Eight Years in Power: An American Tragedy and 1 Admission Ticket.</p>

<p>https://www.rainydaybooks.com/TaNehisiCoates</p>
=0D=0A=0D=0ADownloaded from www.KCSoul.com
SUMMARY:A Conversation with Ta-Nehisi Coates
END:VEVENT
END:VCALENDAR
