
BEGIN:VCALENDAR
PRODID:KCSoul.com generated
VERSION:1.0
BEGIN:VEVENT
DTSTART:20190817T231500Z
DTEND:20190817T231500Z
LOCATION:One Royal Way Kansas City, MO 
DESCRIPTION:<p>Ms. Hill will be performing at 3 stadiums across the U.S. with Strike Out Slavery in the fight against human trafficking. Get your tickets now for the post-game concert, August 17 Kansas City Royals, by visiting: www.strikeoutslavery.com or:&nbsp;</p>

<p>https://www.mlb.com/royals/tickets/specials/strike-out-slavery</p>
=0D=0A=0D=0ADownloaded from www.KCSoul.com
SUMMARY:Lauryn Hill post-game concert
END:VEVENT
END:VCALENDAR
