
BEGIN:VCALENDAR
PRODID:KCSoul.com generated
VERSION:1.0
BEGIN:VEVENT
DTSTART:20191006T013000Z
DTEND:20191006T044500Z
LOCATION:1600 E 18th Street Kansas City, MO 
DESCRIPTION:<p style="margin-left:0px; margin-right:0px"><span style="color:#000000"><span style="font-family:arial,helvetica,sans-serif"><big><strong>Jazz Disciples</strong></big></span></span></p>

<p style="margin-left:0px; margin-right:0px"><span style="color:#000000"><span style="font-family:arial,helvetica,sans-serif"><big>Saxophonist Gerald Dunn has been featured in bands with Illinois Jacquet and Bobby Watson. He plays an inventive, contemporary sound and knows how to capture an audience&rsquo;s attention. Pianist Everette Freeman has toured with Oleta Adams, performing with a deliciously intricate yet fluid grace. There are few Kansas City jazz musicians whom drummer Michael Warren hasn&rsquo;t backed. The Jazz Disciples give him unique opportunities to stretch. Bassist DeAndre Manning provides a solid footing.</big></span></span></p>

<p style="margin-left:0px; margin-right:0px"><span style="color:#000000"><span style="font-family:arial,helvetica,sans-serif"><big><strong><span style="background-color:transparent">Ticket&nbsp;Information</span></strong></big></span></span></p>

<p style="margin-left:0px; margin-right:0px"><span style="color:#000000"><span style="font-family:arial,helvetica,sans-serif"><big>There is a $10 cover charge . For more information about performances in The Blue Room, visit americanjazzmuseum.org/blueroom</big></span></span></p>
=0D=0A=0D=0ADownloaded from www.KCSoul.com
SUMMARY:Jazz Disciples
END:VEVENT
END:VCALENDAR
