
BEGIN:VCALENDAR
PRODID:KCSoul.com generated
VERSION:1.0
BEGIN:VEVENT
DTSTART:20191015T000000Z
DTEND:20191015T040000Z
LOCATION:1600 E 18th Street Kansas City, MO 
DESCRIPTION:<p><span style="font-size:18px"><span style="color:#000000"><big><span style="font-family:arial,helvetica,sans-serif">Bring your instrument and sit in at the weekly Blue Monday Jam Session &ndash; or just take in the sounds of one of Kansas City&rsquo;s best jam sessions. Each Monday night begins with a set by a featured ensemble and then we open the mic to interested musicians.&nbsp;Doors open at 5:00 pm, live music starts at 7:00 pm, jam session starts at 8:00 pm.&nbsp;Arrive early to sign up!</span></big></span></span></p>

<p><strong><span style="font-size:18px"><span style="color:#000000"><big>Seth Lee</big></span></span></strong></p>

<p><span style="font-family:arial,helvetica,sans-serif"><span style="font-size:18px"><span style="color:#000000"><big>Seth Lee is one of Kansas City&rsquo;s finest bass players. He&rsquo;s a graduate of Paseo Academy of Fine and Performing Arts. He is a player in much demand, and performs regularly with artists like Roger Wilder, Sam Wisman, Matt Otto, and has performed with many other top Kansas City jazz artists as well.</big></span></span></span></p>

<p><strong><span style="font-size:18px"><span style="color:#000000"><big>Ticket Information</big></span></span></strong></p>

<p><span style="font-size:18px"><span style="color:#000000"><big><span style="font-family:arial">There is no cost to attend this event. For more information about performances in The Blue Room, visit americanjazzmuseum.org/blueroom </span></big></span></span></p>
=0D=0A=0D=0ADownloaded from www.KCSoul.com
SUMMARY:Blue Monday Jam Session: Seth Lee
END:VEVENT
END:VCALENDAR
