
BEGIN:VCALENDAR
PRODID:KCSoul.com generated
VERSION:1.0
BEGIN:VEVENT
DTSTART:20191123T010000Z
DTEND:20191123T010000Z
LOCATION: Kansas City, MO 
DESCRIPTION:<p>21 Bridges</p>

<p>Release Date:&nbsp; 11/22/19; In Theaters<br />
Genre:&nbsp; &nbsp;Drama/Thriller<br />
Rating:&nbsp; &nbsp;TBA<br />
Director:&nbsp; Brian Kirk<br />
Studio(s):&nbsp; &nbsp;AGBO, Huayi Brothers, STX Entertainment<br />
Running Time:&nbsp; TBA</p>

<p>Cast:&nbsp; Chadwick Boseman, Sienna Miller, Keith David, Stephan James, Taylor Kitsch, Gary Carr, Shayna Ryan, J.K. Simmons.</p>

<p>Story:&nbsp; &nbsp;21 Bridges&rsquo; follows an NYPD detective (Boseman), who is thrust into a citywide manhunt for a pair of cop killers after uncovering a massive and unexpected conspiracy. As the night unfolds, lines become blurred on who he is pursuing, and who is in pursuit of him. When the search intensifies, extreme measures are taken to prevent the killers from escaping Manhattan as the authorities close all 21 bridges to prevent any entry or exit from the iconic island.&nbsp;</p>
=0D=0A=0D=0ADownloaded from www.KCSoul.com
SUMMARY:21 Bridges
END:VEVENT
END:VCALENDAR
