
BEGIN:VCALENDAR
PRODID:KCSoul.com generated
VERSION:1.0
BEGIN:VEVENT
DTSTART:20201129T212500Z
DTEND:20201129T212500Z
LOCATION:4201 N Dale Mabry Hwy Tampa, FL 
DESCRIPTION:<p>Chiefs v. Tampa Bay Buccaneers</p>
=0D=0A=0D=0ADownloaded from www.KCSoul.com
SUMMARY:Chiefs vs Tampa Bay Buccaneers
END:VEVENT
END:VCALENDAR
