
BEGIN:VCALENDAR
PRODID:KCSoul.com generated
VERSION:1.0
BEGIN:VEVENT
DTSTART:20230528T220000Z
DTEND:20230529T020000Z
LOCATION: Kansas City, KS 
DESCRIPTION:<div class="x11i5rnm xat24cr x1mh8g0r x1vvkbs xtlvy1s" style="margin: 0.5em 0px 0px; overflow-wrap: break-word; font-family: &quot;Segoe UI Historic&quot;, &quot;Segoe UI&quot;, Helvetica, Arial, sans-serif; color: rgb(5, 5, 5); font-size: 15px;">he Gospel Extravaganza Sunday May 28th with a Special performance from award winning Gospel artist Bishop Cortez Vaughn and musical guests. Special Guest appearances at all events. See Flyers for details.</div>

<div class="x11i5rnm xat24cr x1mh8g0r x1vvkbs xtlvy1s" style="margin: 0.5em 0px 0px; overflow-wrap: break-word; font-family: &quot;Segoe UI Historic&quot;, &quot;Segoe UI&quot;, Helvetica, Arial, sans-serif; color: rgb(5, 5, 5); font-size: 15px;">The Gospel Extravaganza<br />
Mt. Carmel Church of God in Christ<br />
2025 North 12th Street<br />
Kansas City, Kansas 66106</div>

<div class="x11i5rnm xat24cr x1mh8g0r x1vvkbs xtlvy1s" style="margin: 0.5em 0px 0px; overflow-wrap: break-word; font-family: &quot;Segoe UI Historic&quot;, &quot;Segoe UI&quot;, Helvetica, Arial, sans-serif; color: rgb(5, 5, 5); font-size: 15px;">Admission: $20/person</div>

<div class="x11i5rnm xat24cr x1mh8g0r x1vvkbs xtlvy1s" style="margin: 0.5em 0px 0px; overflow-wrap: break-word; font-family: &quot;Segoe UI Historic&quot;, &quot;Segoe UI&quot;, Helvetica, Arial, sans-serif; color: rgb(5, 5, 5); font-size: 15px;"><a class="x1i10hfl xjbqb8w x6umtig x1b1mbwd xaqea5y xav7gou x9f619 x1ypdohk xt0psk2 xe8uvvx xdj266r x11i5rnm xat24cr x1mh8g0r xexx8yu x4uap5 x18d9i69 xkhd6sd x16tdsg8 x1hl2dhg xggy1nq x1a2a7pz xt0b8zv x1fey0fg" href="https://www.eventbrite.com/e/kappa-alpha-psi-centennial-gospel-extravaganza-tickets-598738441797?fbclid=IwAR3lU2Lqb1uuGInV56L7k9IuH3sbuqN0Lw1hbDSMhoRDiMOYZZhHhF4YJtU" rel="nofollow noopener" style="color: var(--blue-link); cursor: pointer; text-decoration-line: none; border-width: 0px; border-style: initial; border-color: initial; outline: none; list-style: none; margin: 0px; text-align: inherit; padding: 0px; -webkit-tap-highlight-color: transparent; box-sizing: border-box; touch-action: manipulation; background-color: transparent; display: inline; font-family: inherit;" tabindex="0" target="_blank">https://www.eventbrite.com/.../kappa-alpha-psi-centennial...</a></div>

<div class="x11i5rnm xat24cr x1mh8g0r x1vvkbs xtlvy1s" style="margin: 0.5em 0px 0px; overflow-wrap: break-word; font-family: &quot;Segoe UI Historic&quot;, &quot;Segoe UI&quot;, Helvetica, Arial, sans-serif; color: rgb(5, 5, 5); font-size: 15px;">&nbsp;</div>

<div class="x11i5rnm xat24cr x1mh8g0r x1vvkbs xtlvy1s" style="margin: 0.5em 0px 0px; overflow-wrap: break-word; font-family: &quot;Segoe UI Historic&quot;, &quot;Segoe UI&quot;, Helvetica, Arial, sans-serif; color: rgb(5, 5, 5); font-size: 15px;">This Just in! Save Money with the Weekend pass</div>

<div class="x11i5rnm xat24cr x1mh8g0r x1vvkbs xtlvy1s" style="margin: 0.5em 0px 0px; overflow-wrap: break-word; font-family: &quot;Segoe UI Historic&quot;, &quot;Segoe UI&quot;, Helvetica, Arial, sans-serif; color: rgb(5, 5, 5); font-size: 15px;">Weekend Pass good for access to the Diamond Friday, Centennial Gala and Centennial Gospel Show!<br />
Weekend Pass provides access to the following events:<br />
Diamond Friday, the Centennial Gala, and the Centennial Gospel Show!</div>

<div class="x11i5rnm xat24cr x1mh8g0r x1vvkbs xtlvy1s" style="margin: 0.5em 0px 0px; overflow-wrap: break-word; font-family: &quot;Segoe UI Historic&quot;, &quot;Segoe UI&quot;, Helvetica, Arial, sans-serif; color: rgb(5, 5, 5); font-size: 15px;">Cost: $135/person</div>

<div class="x11i5rnm xat24cr x1mh8g0r x1vvkbs xtlvy1s" style="margin: 0.5em 0px 0px; overflow-wrap: break-word; font-family: &quot;Segoe UI Historic&quot;, &quot;Segoe UI&quot;, Helvetica, Arial, sans-serif; color: rgb(5, 5, 5); font-size: 15px;">$240/couple</div>

<div class="x11i5rnm xat24cr x1mh8g0r x1vvkbs xtlvy1s" style="margin: 0.5em 0px 0px; overflow-wrap: break-word; font-family: &quot;Segoe UI Historic&quot;, &quot;Segoe UI&quot;, Helvetica, Arial, sans-serif; color: rgb(5, 5, 5); font-size: 15px;"><a class="x1i10hfl xjbqb8w x6umtig x1b1mbwd xaqea5y xav7gou x9f619 x1ypdohk xt0psk2 xe8uvvx xdj266r x11i5rnm xat24cr x1mh8g0r xexx8yu x4uap5 x18d9i69 xkhd6sd x16tdsg8 x1hl2dhg xggy1nq x1a2a7pz xt0b8zv x1fey0fg" href="https://www.eventbrite.com/e/kappa-alpha-psi-centennial-weekend-pass-tickets-605356416337?fbclid=IwAR1sj0NrHdF-wt2LKrcO1SjHtPhkPhCHbDhsEhcsHb-7V7P6TFR7yQ125O8" rel="nofollow noopener" style="color: var(--blue-link); cursor: pointer; text-decoration-line: none; border-width: 0px; border-style: initial; border-color: initial; outline: none; list-style: none; margin: 0px; text-align: inherit; padding: 0px; -webkit-tap-highlight-color: transparent; box-sizing: border-box; touch-action: manipulation; background-color: transparent; display: inline; font-family: inherit;" tabindex="0" target="_blank">https://www.eventbrite.com/.../kappa-alpha-psi-centennial...</a></div>

<div class="x11i5rnm xat24cr x1mh8g0r x1vvkbs xtlvy1s" style="margin: 0.5em 0px 0px; overflow-wrap: break-word; font-family: &quot;Segoe UI Historic&quot;, &quot;Segoe UI&quot;, Helvetica, Arial, sans-serif; color: rgb(5, 5, 5); font-size: 15px;">This will Be a Kappa Week for the ages!</div>
=0D=0A=0D=0ADownloaded from www.KCSoul.com
SUMMARY:Kansas City Kappas Centennial Gospel Extravaganza 
END:VEVENT
END:VCALENDAR
