
BEGIN:VCALENDAR
PRODID:KCSoul.com generated
VERSION:1.0
BEGIN:VEVENT
DTSTART:20250301T190000Z
DTEND:20250301T220000Z
LOCATION:9400 Pflumm Lenexa, KS 
DESCRIPTION:<p><strong>Boots on the Ground Volunteer Fair</strong> is a first of its kind gathering of organizations and citizens ready to support and fight back against the threats to our democracy. This fair is designed to link organizations with actionable opportunities to volunteers with time, skills and commitment. The volunteers attending are ready to &ldquo;Do Something&rdquo; and become boots on the ground for your organization. The Fair is free to organizations and attendees.</p>
=0D=0A=0D=0ADownloaded from www.KCSoul.com
SUMMARY:Boots on the Ground Volunteer Fair
END:VEVENT
END:VCALENDAR
